BEGIN:VCALENDAR
VERSION:2.0
PRODID:-//ChamberMaster//Event Calendar 2.0//EN
METHOD:PUBLISH
X-PUBLISHED-TTL:P1H
REFRESH-INTERVAL:P1H
CALSCALE:GREGORIAN
BEGIN:VTIMEZONE
TZID:America/Chicago
BEGIN:DAYLIGHT
RRULE:FREQ=YEARLY;BYMONTH=3;BYDAY=2SU
DTSTART:20070101T000000
TZOFFSETFROM:-0600
TZOFFSETTO:-0500
TZNAME:Central Daylight Time
END:DAYLIGHT
BEGIN:STANDARD
RRULE:FREQ=YEARLY;BYMONTH=11;BYDAY=1SU
DTSTART:20070101T000000
TZOFFSETFROM:-0500
TZOFFSETTO:-0600
TZNAME:Central Standard Time
END:STANDARD
END:VTIMEZONE
BEGIN:VEVENT
DTSTART;TZID=America/Chicago:20241017T163000
DTEND;TZID=America/Chicago:20241017T183000
X-MICROSOFT-CDO-ALLDAYEVENT:FALSE
SUMMARY:ABC After Hours
DESCRIPTION:Join us to connect with the industry at this casual networking event. *This event is free to attend\, but registration is limited to ABC members and invited guests only.  Are you an ABC Heart of America member and need help registering or updating your account? Please email info@abcksmo.org or call 816-994-5990. *By registering for this event\, you agree that your photo may be used by ABC Heart of America for promotional purposes.
X-ALT-DESC;FMTTYPE=text/html:<!DOCTYPE html><html><head><title></title></head><body aria-disabled="false"><p>Join us to connect with the industry at this casual networking event.&nbsp\;</p><p>*This event is free to attend\, but registration is limited to ABC members and invited guests only.&nbsp\;</p><p>&nbsp\;Are you an ABC Heart of America member and need help registering or updating your account? Please email info@abcksmo.org or call 816-994-5990. *By registering for this event\, you agree that your photo may be used by ABC Heart of America for promotional purposes.</p></body></html>
LOCATION:11350 Switzer Rd Overland Park KS 66210
UID:e.3847.936039
SEQUENCE:3
DTSTAMP:20260421T175742Z
URL:https://integration.abcksmo.org/cal-advocacy/Details/abc-after-hours-1063685?sourceTypeId=Hub
END:VEVENT
END:VCALENDAR
